BEGIN:VCALENDAR
VERSION:2.0
PRODID:-//hacksw/handcal//NONSGML v1.0//EN
BEGIN:VEVENT
UID:7818
DTSTART;VALUE=DATE:20170311
URL;VALUE=URI:ohschonhell.at/?page_id=15470
SUMMARY:Laissez-Faire
LOCATION:DUAL
END:VEVENT
END:VCALENDAR


