BEGIN:VCALENDAR
VERSION:2.0
PRODID:-//hacksw/handcal//NONSGML v1.0//EN
BEGIN:VEVENT
UID:7842
DTSTART;VALUE=DATE:20170325
URL;VALUE=URI:ohschonhell.at/?page_id=15522
SUMMARY:Soundterrasse Extended w/ Thomas Melchior (inkl. Afterhour)
LOCATION:SASS
END:VEVENT
END:VCALENDAR


