BEGIN:VCALENDAR
VERSION:2.0
PRODID:-//hacksw/handcal//NONSGML v1.0//EN
BEGIN:VEVENT
UID:7846
DTSTART;VALUE=DATE:20170317
URL;VALUE=URI:ohschonhell.at/?page_id=15530
SUMMARY:Verwirrt mit Fabian Hofer
LOCATION:DUAL
END:VEVENT
END:VCALENDAR


