BEGIN:VCALENDAR
VERSION:2.0
PRODID:-//hacksw/handcal//NONSGML v1.0//EN
BEGIN:VEVENT
UID:7855
DTSTART;VALUE=DATE:20170506
URL;VALUE=URI:ohschonhell.at/?page_id=15550
SUMMARY:Swing it!!! finest electro swing
LOCATION:ROTE BAR
END:VEVENT
END:VCALENDAR


