BEGIN:VCALENDAR
VERSION:2.0
PRODID:-//hacksw/handcal//NONSGML v1.0//EN
BEGIN:VEVENT
UID:7857
DTSTART;VALUE=DATE:20170407
URL;VALUE=URI:ohschonhell.at/?page_id=15554
SUMMARY:Malen Nach Zahlen w/ Kashawar (Black Puddle Prod.\, o300f)
LOCATION:SASS
END:VEVENT
END:VCALENDAR


