BEGIN:VCALENDAR
VERSION:2.0
PRODID:-//hacksw/handcal//NONSGML v1.0//EN
BEGIN:VEVENT
UID:7860
DTSTART;VALUE=DATE:20170401
URL;VALUE=URI:ohschonhell.at/?page_id=15560
SUMMARY:Mainframe Recordings LIVE pres. Loadstar / Trei / Posij
LOCATION:ARENA
END:VEVENT
END:VCALENDAR


