BEGIN:VCALENDAR
VERSION:2.0
PRODID:-//hacksw/handcal//NONSGML v1.0//EN
BEGIN:VEVENT
UID:7865
DTSTART;VALUE=DATE:20170324
URL;VALUE=URI:ohschonhell.at/?page_id=15570
SUMMARY:Down. mit Landhouse
LOCATION:Kramladen
END:VEVENT
END:VCALENDAR


