BEGIN:VCALENDAR
VERSION:2.0
PRODID:-//hacksw/handcal//NONSGML v1.0//EN
BEGIN:VEVENT
UID:7871
DTSTART;VALUE=DATE:20170316
URL;VALUE=URI:ohschonhell.at/?page_id=15582
SUMMARY:Frieden &amp\; Liebe gehen tanzen #8 - Techno/House
LOCATION:VENSTER 99
END:VEVENT
END:VCALENDAR


