BEGIN:VCALENDAR
VERSION:2.0
PRODID:-//hacksw/handcal//NONSGML v1.0//EN
BEGIN:VEVENT
UID:7881
DTSTART;VALUE=DATE:20170324
URL;VALUE=URI:ohschonhell.at/?page_id=15602
SUMMARY:HDHW #6 mit BART und BUSEN
LOCATION:MarctStandl
END:VEVENT
END:VCALENDAR


