BEGIN:VCALENDAR
VERSION:2.0
PRODID:-//hacksw/handcal//NONSGML v1.0//EN
BEGIN:VEVENT
UID:7898
DTSTART;VALUE=DATE:20170318
URL;VALUE=URI:ohschonhell.at/?page_id=15636
SUMMARY:BETTER BE NICE afterhours (Thomas Grün\, Bono\, die Verleger)
LOCATION:BETTER BE NICE afterhours, (next to FLEX)
END:VEVENT
END:VCALENDAR


