BEGIN:VCALENDAR
VERSION:2.0
PRODID:-//hacksw/handcal//NONSGML v1.0//EN
BEGIN:VEVENT
UID:7907
DTSTART;VALUE=DATE:20170609
URL;VALUE=URI:ohschonhell.at/?page_id=15654
SUMMARY:Bassfabrique - Hi-Tech Circus mit Xenrox &amp\; Flamyyy
LOCATION:VIPER ROOM
END:VEVENT
END:VCALENDAR


