BEGIN:VCALENDAR
VERSION:2.0
PRODID:-//hacksw/handcal//NONSGML v1.0//EN
BEGIN:VEVENT
UID:7921
DTSTART;VALUE=DATE:20170317
URL;VALUE=URI:ohschonhell.at/?page_id=15682
SUMMARY:Intelligent Design (Live Electronic Music! + DJ sets!)
LOCATION:ELEKTRO GÖNNER
END:VEVENT
END:VCALENDAR


