BEGIN:VCALENDAR
VERSION:2.0
PRODID:-//hacksw/handcal//NONSGML v1.0//EN
BEGIN:VEVENT
UID:7939
DTSTART;VALUE=DATE:20170421
URL;VALUE=URI:ohschonhell.at/?page_id=15719
SUMMARY:Spritzwein Sessions w/ Red Rack&#039\;em (UK)
LOCATION:SASS
END:VEVENT
END:VCALENDAR


