BEGIN:VCALENDAR
VERSION:2.0
PRODID:-//hacksw/handcal//NONSGML v1.0//EN
BEGIN:VEVENT
UID:7949
DTSTART;VALUE=DATE:20170407
URL;VALUE=URI:ohschonhell.at/?page_id=15739
SUMMARY:Drumworks Opening w/ Survival (UK)
LOCATION:PRIME
END:VEVENT
END:VCALENDAR


