BEGIN:VCALENDAR
VERSION:2.0
PRODID:-//hacksw/handcal//NONSGML v1.0//EN
BEGIN:VEVENT
UID:7951
DTSTART;VALUE=DATE:20170331
URL;VALUE=URI:ohschonhell.at/?page_id=15743
SUMMARY:Psychedelic Culture 2
LOCATION:CLUB 34
END:VEVENT
END:VCALENDAR


