BEGIN:VCALENDAR
VERSION:2.0
PRODID:-//hacksw/handcal//NONSGML v1.0//EN
BEGIN:VEVENT
UID:7965
DTSTART;VALUE=DATE:20170324
URL;VALUE=URI:ohschonhell.at/?page_id=15775
SUMMARY:Switch! XL presents the BIG BAD JUMP UP RAVE
LOCATION:Marx Project
END:VEVENT
END:VCALENDAR


