BEGIN:VCALENDAR
VERSION:2.0
PRODID:-//hacksw/handcal//NONSGML v1.0//EN
BEGIN:VEVENT
UID:7972
DTSTART;VALUE=DATE:20170513
URL;VALUE=URI:ohschonhell.at/?page_id=15790
SUMMARY:Psychedelic UFO Party
LOCATION:CAFE DERWISCH
END:VEVENT
END:VCALENDAR


