BEGIN:VCALENDAR
VERSION:2.0
PRODID:-//hacksw/handcal//NONSGML v1.0//EN
BEGIN:VEVENT
UID:798
DTSTART;VALUE=DATE:20140329
URL;VALUE=URI:ohschonhell.at/?page_id=3260
SUMMARY:SEKTION 8 NACHT - Belebt die Stimme
LOCATION:BADESCHIFF
END:VEVENT
END:VCALENDAR


