BEGIN:VCALENDAR
VERSION:2.0
PRODID:-//hacksw/handcal//NONSGML v1.0//EN
BEGIN:VEVENT
UID:7987
DTSTART;VALUE=DATE:20170412
URL;VALUE=URI:ohschonhell.at/?page_id=15820
SUMMARY:David &amp\; Goliath
LOCATION:Kramladen
END:VEVENT
END:VCALENDAR


