BEGIN:VCALENDAR
VERSION:2.0
PRODID:-//hacksw/handcal//NONSGML v1.0//EN
BEGIN:VEVENT
UID:803
DTSTART;VALUE=DATE:20140328
URL;VALUE=URI:ohschonhell.at/?page_id=3265
SUMMARY:ELECTRIC FOREST WU | 28.03
LOCATION:WU MENSA
END:VEVENT
END:VCALENDAR


