BEGIN:VCALENDAR
VERSION:2.0
PRODID:-//hacksw/handcal//NONSGML v1.0//EN
BEGIN:VEVENT
UID:8038
DTSTART;VALUE=DATE:20170410
URL;VALUE=URI:ohschonhell.at/?page_id=15932
SUMMARY:Tonight - Bassline DnB Monday´s
LOCATION:Curtain
END:VEVENT
END:VCALENDAR


