BEGIN:VCALENDAR
VERSION:2.0
PRODID:-//hacksw/handcal//NONSGML v1.0//EN
BEGIN:VEVENT
UID:8062
DTSTART;VALUE=DATE:20170428
URL;VALUE=URI:ohschonhell.at/?page_id=15983
SUMMARY:C³ ••• Astral Arena - The Awakening
LOCATION:CLUB 34
END:VEVENT
END:VCALENDAR


