BEGIN:VCALENDAR
VERSION:2.0
PRODID:-//hacksw/handcal//NONSGML v1.0//EN
BEGIN:VEVENT
UID:8068
DTSTART;VALUE=DATE:20170415
URL;VALUE=URI:ohschonhell.at/?page_id=15997
SUMMARY:Switch! XL presents SaSaSaS &amp\; more
LOCATION:Marx Project
END:VEVENT
END:VCALENDAR


