BEGIN:VCALENDAR
VERSION:2.0
PRODID:-//hacksw/handcal//NONSGML v1.0//EN
BEGIN:VEVENT
UID:8097
DTSTART;VALUE=DATE:20170416
URL;VALUE=URI:ohschonhell.at/?page_id=16060
SUMMARY:DiscoOrdination
LOCATION:ELEKTRO GÖNNER
END:VEVENT
END:VCALENDAR


