BEGIN:VCALENDAR
VERSION:2.0
PRODID:-//hacksw/handcal//NONSGML v1.0//EN
BEGIN:VEVENT
UID:8099
DTSTART;VALUE=DATE:20170429
URL;VALUE=URI:ohschonhell.at/?page_id=16064
SUMMARY:Fixstern X Club Desiree | Hysteric
LOCATION:OPERA CLUB
END:VEVENT
END:VCALENDAR


