BEGIN:VCALENDAR
VERSION:2.0
PRODID:-//hacksw/handcal//NONSGML v1.0//EN
BEGIN:VEVENT
UID:8100
DTSTART;VALUE=DATE:20170429
URL;VALUE=URI:ohschonhell.at/?page_id=16066
SUMMARY:FJU:Variety04 w/ Klabika
LOCATION:DUAL
END:VEVENT
END:VCALENDAR


