BEGIN:VCALENDAR
VERSION:2.0
PRODID:-//hacksw/handcal//NONSGML v1.0//EN
BEGIN:VEVENT
UID:8125
DTSTART;VALUE=DATE:20170421
URL;VALUE=URI:ohschonhell.at/?page_id=16125
SUMMARY:Schwarzbrot und Bad&amp\;Boujee mit ZEBRA KATZ live
LOCATION:CLUB TITANIC
END:VEVENT
END:VCALENDAR


