BEGIN:VCALENDAR
VERSION:2.0
PRODID:-//hacksw/handcal//NONSGML v1.0//EN
BEGIN:VEVENT
UID:8138
DTSTART;VALUE=DATE:20170804
URL;VALUE=URI:ohschonhell.at/?page_id=16156
SUMMARY:High Friedelity
LOCATION:Friedel Gastro
END:VEVENT
END:VCALENDAR


