BEGIN:VCALENDAR
VERSION:2.0
PRODID:-//hacksw/handcal//NONSGML v1.0//EN
BEGIN:VEVENT
UID:8145
DTSTART;VALUE=DATE:20170513
URL;VALUE=URI:ohschonhell.at/?page_id=16176
SUMMARY:Zinnober&#039\;s Königreich der Träumer mit Crussen
LOCATION:AUSLAGE
END:VEVENT
END:VCALENDAR


