BEGIN:VCALENDAR
VERSION:2.0
PRODID:-//hacksw/handcal//NONSGML v1.0//EN
BEGIN:VEVENT
UID:8155
DTSTART;VALUE=DATE:20170525
URL;VALUE=URI:ohschonhell.at/?page_id=16196
SUMMARY:Puppenhouse ♡ Gästeliste
LOCATION:SASS
END:VEVENT
END:VCALENDAR


