BEGIN:VCALENDAR
VERSION:2.0
PRODID:-//hacksw/handcal//NONSGML v1.0//EN
BEGIN:VEVENT
UID:8160
DTSTART;VALUE=DATE:20170519
URL;VALUE=URI:ohschonhell.at/?page_id=16206
SUMMARY:Meuterei Season Closing x Octave One Live
LOCATION:Meuterei
END:VEVENT
END:VCALENDAR


