BEGIN:VCALENDAR
VERSION:2.0
PRODID:-//hacksw/handcal//NONSGML v1.0//EN
BEGIN:VEVENT
UID:8168
DTSTART;VALUE=DATE:20170512
URL;VALUE=URI:ohschonhell.at/?page_id=16222
SUMMARY:Stadt Land Schluss
LOCATION:ELEKTRO GÖNNER
END:VEVENT
END:VCALENDAR


