BEGIN:VCALENDAR
VERSION:2.0
PRODID:-//hacksw/handcal//NONSGML v1.0//EN
BEGIN:VEVENT
UID:8170
DTSTART;VALUE=DATE:20170506
URL;VALUE=URI:ohschonhell.at/?page_id=16226
SUMMARY:Better Be Nice afterhours + Kult!
LOCATION:BETTER BE NICE afterhours, (next to FLEX)
END:VEVENT
END:VCALENDAR


