BEGIN:VCALENDAR
VERSION:2.0
PRODID:-//hacksw/handcal//NONSGML v1.0//EN
BEGIN:VEVENT
UID:8176
DTSTART;VALUE=DATE:20170430
URL;VALUE=URI:ohschonhell.at/?page_id=16238
SUMMARY:MAYO - Tanzen bis der Mai kommt
LOCATION:Curtain
END:VEVENT
END:VCALENDAR


