BEGIN:VCALENDAR
VERSION:2.0
PRODID:-//hacksw/handcal//NONSGML v1.0//EN
BEGIN:VEVENT
UID:8177
DTSTART;VALUE=DATE:20170430
URL;VALUE=URI:ohschonhell.at/?page_id=16240
SUMMARY:Morgen Klang
LOCATION:CLUB ATINA BAR LOUNGE
END:VEVENT
END:VCALENDAR


