BEGIN:VCALENDAR
VERSION:2.0
PRODID:-//hacksw/handcal//NONSGML v1.0//EN
BEGIN:VEVENT
UID:8187
DTSTART;VALUE=DATE:20170526
URL;VALUE=URI:ohschonhell.at/?page_id=16267
SUMMARY:Dream Raw Recordings w/ Raär &amp\; Paradiso Rhythm
LOCATION:PRIME
END:VEVENT
END:VCALENDAR


