BEGIN:VCALENDAR
VERSION:2.0
PRODID:-//hacksw/handcal//NONSGML v1.0//EN
BEGIN:VEVENT
UID:8191
DTSTART;VALUE=DATE:20170512
URL;VALUE=URI:ohschonhell.at/?page_id=16275
SUMMARY:Jessas\, is raving Iran! / Blade&amp\;Beard
LOCATION:OPERA CLUB
END:VEVENT
END:VCALENDAR


