BEGIN:VCALENDAR
VERSION:2.0
PRODID:-//hacksw/handcal//NONSGML v1.0//EN
BEGIN:VEVENT
UID:8194
DTSTART;VALUE=DATE:20170506
URL;VALUE=URI:ohschonhell.at/?page_id=16281
SUMMARY:Ananas im Exil
LOCATION:DUAL
END:VEVENT
END:VCALENDAR


