BEGIN:VCALENDAR
VERSION:2.0
PRODID:-//hacksw/handcal//NONSGML v1.0//EN
BEGIN:VEVENT
UID:8200
DTSTART;VALUE=DATE:20170506
URL;VALUE=URI:ohschonhell.at/?page_id=16298
SUMMARY:Tribejagd
LOCATION:CLUB MASSIV
END:VEVENT
END:VCALENDAR


