BEGIN:VCALENDAR
VERSION:2.0
PRODID:-//hacksw/handcal//NONSGML v1.0//EN
BEGIN:VEVENT
UID:8221
DTSTART;VALUE=DATE:20170526
URL;VALUE=URI:ohschonhell.at/?page_id=16344
SUMMARY:Unter die Gürtellinie
LOCATION:Kramladen
END:VEVENT
END:VCALENDAR


