BEGIN:VCALENDAR
VERSION:2.0
PRODID:-//hacksw/handcal//NONSGML v1.0//EN
BEGIN:VEVENT
UID:8241
DTSTART;VALUE=DATE:20170527
URL;VALUE=URI:ohschonhell.at/?page_id=16394
SUMMARY:ETH Italy (Monday Morning\, Serkal) - Behind the Curtain
LOCATION:Curtain
END:VEVENT
END:VCALENDAR


