BEGIN:VCALENDAR
VERSION:2.0
PRODID:-//hacksw/handcal//NONSGML v1.0//EN
BEGIN:VEVENT
UID:8251
DTSTART;VALUE=DATE:20170519
URL;VALUE=URI:ohschonhell.at/?page_id=16416
SUMMARY:FJU:Variety05 / Season Closing
LOCATION:DUAL
END:VEVENT
END:VCALENDAR


