BEGIN:VCALENDAR
VERSION:2.0
PRODID:-//hacksw/handcal//NONSGML v1.0//EN
BEGIN:VEVENT
UID:8252
DTSTART;VALUE=DATE:20170518
URL;VALUE=URI:ohschonhell.at/?page_id=16419
SUMMARY:Cheeky Thursday
LOCATION:PRIME
END:VEVENT
END:VCALENDAR


