BEGIN:VCALENDAR
VERSION:2.0
PRODID:-//hacksw/handcal//NONSGML v1.0//EN
BEGIN:VEVENT
UID:8254
DTSTART;VALUE=DATE:20170527
URL;VALUE=URI:ohschonhell.at/?page_id=16423
SUMMARY:Tonight - Drumworks w/ Hybris (CZ)
LOCATION:PRIME
END:VEVENT
END:VCALENDAR


