BEGIN:VCALENDAR
VERSION:2.0
PRODID:-//hacksw/handcal//NONSGML v1.0//EN
BEGIN:VEVENT
UID:8266
DTSTART;VALUE=DATE:20170529
URL;VALUE=URI:ohschonhell.at/?page_id=16447
SUMMARY:Techno Dampfer - Official Afterparty // 29.5.
LOCATION:Kramladen
END:VEVENT
END:VCALENDAR


