BEGIN:VCALENDAR
VERSION:2.0
PRODID:-//hacksw/handcal//NONSGML v1.0//EN
BEGIN:VEVENT
UID:827
DTSTART;VALUE=DATE:20140314
URL;VALUE=URI:ohschonhell.at/?page_id=3289
SUMMARY:READY FOR TAKE OFF
LOCATION:OBEN
END:VEVENT
END:VCALENDAR


