BEGIN:VCALENDAR
VERSION:2.0
PRODID:-//hacksw/handcal//NONSGML v1.0//EN
BEGIN:VEVENT
UID:8272
DTSTART;VALUE=DATE:20170520
URL;VALUE=URI:ohschonhell.at/?page_id=16459
SUMMARY:Abstract Sounds meets Frieden &amp\; Liebe
LOCATION:DUAL
END:VEVENT
END:VCALENDAR


