BEGIN:VCALENDAR
VERSION:2.0
PRODID:-//hacksw/handcal//NONSGML v1.0//EN
BEGIN:VEVENT
UID:8307
DTSTART;VALUE=DATE:20170524
URL;VALUE=URI:ohschonhell.at/?page_id=16558
SUMMARY:David &amp\; Goliath sind Konstant Daneben
LOCATION:Kramladen
END:VEVENT
END:VCALENDAR


