BEGIN:VCALENDAR
VERSION:2.0
PRODID:-//hacksw/handcal//NONSGML v1.0//EN
BEGIN:VEVENT
UID:8308
DTSTART;VALUE=DATE:20170522
URL;VALUE=URI:ohschonhell.at/?page_id=16567
SUMMARY:Viennalizm - special monday issue
LOCATION:Strandbar Herrmann
END:VEVENT
END:VCALENDAR


