BEGIN:VCALENDAR
VERSION:2.0
PRODID:-//hacksw/handcal//NONSGML v1.0//EN
BEGIN:VEVENT
UID:8331
DTSTART;VALUE=DATE:20170609
URL;VALUE=URI:ohschonhell.at/?page_id=16617
SUMMARY:Down. mit wundersamen Freunden
LOCATION:Kramladen
END:VEVENT
END:VCALENDAR


